BEGIN:VCALENDAR
VERSION:2.0
PRODID:-// //NONSGML Events //EN
CALSCALE:GREGORIAN
X-WR-CALNAME:
BEGIN:VEVENT
DTSTART:20260722T000000Z
DTEND:20260722T000000Z
SUMMARY:LOISIRS EN FAMILLE : Atelier cuisine
DESCRIPTION:MER. 22 JUILLET. – 14h30/16h00 – Espace St-Exupéry
À partir de 4 ans
Une occasion parfaite pour partager un moment convivial et gourmand !
3€ par famille / Inscription obligatoire
 

LOCATION:MJC Luc la Primaube
ORGANIZER:MJC  Luc la Primaube
URL;VALUE=URI:https://mjcllp.fr/programme-culturel/loisirs-en-famille-atelier-cuisine-2/
TRANSP:OPAQUE
END:VEVENT
END:VCALENDAR